BEGIN:VCALENDAR
VERSION:2.0
PRODID:-//wp-events-plugin.com//7.2.3.1//EN
TZID:Europe/Zurich
X-WR-TIMEZONE:Europe/Zurich
BEGIN:VEVENT
UID:48@hpsailingclub.com
DTSTART;TZID=Europe/Zurich:20260605T080000
DTEND;TZID=Europe/Zurich:20260607T180000
DTSTAMP:20250926T061440Z
URL:https://hpsailingclub.com/events/bol-dor-2026-edition-lars-hp-services
 -crew/
SUMMARY:Bol d'or 2026 edition: Lars + HP Services Crew
DESCRIPTION:Bol d'Or du Léman - The must-attend event in Swiss sailing.\n\
 nSkipper: Lars\n\n&nbsp\;
CATEGORIES:Regattas
END:VEVENT
BEGIN:VTIMEZONE
TZID:Europe/Zurich
X-LIC-LOCATION:Europe/Zurich
BEGIN:DAYLIGHT
DTSTART:20260329T030000
TZOFFSETFROM:+0100
TZOFFSETTO:+0200
TZNAME:CEST
END:DAYLIGHT
END:VTIMEZONE
END:VCALENDAR